BEGIN:VCALENDAR
VERSION:2.0
PRODID:-//ChamberMaster//Event Calendar 2.0//EN
METHOD:PUBLISH
X-PUBLISHED-TTL:P3D
REFRESH-INTERVAL:P3D
CALSCALE:GREGORIAN
BEGIN:VEVENT
DTSTART:20210211T140000Z
DTEND:20210211T150000Z
X-MICROSOFT-CDO-ALLDAYEVENT:FALSE
SUMMARY:Business Card Exchange
DESCRIPTION:Please join us Thursday mornings at our weekly networking event! This meeting is now offered via ZOOM. Grab a cup of coffee and join us via your computer or phone and share your business commercial.\n\n	Attendees get 30 seconds to present their business\n	Business Card Exchange sponsors have a 10 minute spotlight each month\n\nTo get more information on how to become a sponsor of this event\, call the chamber office at 972.805.3749 or email info@murphychamber.org.
X-ALT-DESC;FMTTYPE=text/html:Please join us Thursday mornings at our weekly networking event! This meeting is now offered via ZOOM. Grab a cup of coffee and join us via your computer or phone and share your business commercial.\n<ul>\n	<li>Attendees get 30 seconds to present their business</li>\n	<li>Business Card Exchange sponsors have a 10 minute spotlight each month</li>\n</ul>\nTo get more information on how to become a sponsor of this event\, call the chamber office at 972.805.3749 or email info@murphychamber.org.
LOCATION:Join Zoom Meeting JOIN THE CALL Meeting ID: 912 944 2573
UID:e.2078.1768
SEQUENCE:3
DTSTAMP:20260424T152249Z
URL:https://business.murphychamber.org/events/details/business-card-exchange-02-11-2021-1768
END:VEVENT

END:VCALENDAR
