BEGIN:VCALENDAR
VERSION:2.0
PRODID:-//ChamberMaster//Event Calendar 2.0//EN
METHOD:PUBLISH
X-PUBLISHED-TTL:P3D
REFRESH-INTERVAL:P3D
CALSCALE:GREGORIAN
BEGIN:VEVENT
DTSTART:20210303T000000Z
DTEND:20210303T023000Z
X-MICROSOFT-CDO-ALLDAYEVENT:FALSE
SUMMARY:City Council Meeting
DESCRIPTION:City Council Meeting\n\nPlease see City's website for any meeting announcements or cancellations.
X-ALT-DESC;FMTTYPE=text/html:City Council Meeting<br />\nPlease see <a href="https://www.murphytx.org/85/City-Council">City&#39\;s website</a> for any meeting announcements or cancellations.
LOCATION:City Council Chambers 206 N Murphy Road Murphy\, TX 75094
UID:e.2078.411
SEQUENCE:3
DTSTAMP:20260426T010220Z
URL:https://business.murphychamber.org/events/details/city-council-meeting-03-02-2021-411
END:VEVENT

END:VCALENDAR
